Workbook

Sheet 麻薬小売業者届出書
A1: ※入力について 黄色のセルには、データ（文字、数字）を入力してください。 水色のセルは、入力は不要です。行が不足する場合は、2枚目以降をご利用ください。
A2: 様式１３ | O2: 令和 | P2: 年 月 日
D3: 令和 | H3: 年度 麻薬小売業者年間届
A4: （宛先）広島市保健所長
E5: 麻薬業務所 所在地
E6: 麻薬業務所 名 称
H7: 連絡先 | I7: ：担当 | O7: TEL
E8: 届 出 者 住 所
E9: 届 出 者 氏 名
J10: （法人にあっては、主たる事務所の所在地及び名称）
E11: 免許証の番号 麻令和 | K11: 年第 | N11: 号
A13: 麻薬及び向精神薬取締法（昭和28年法律第14号）第47条の規定により、次のとおり届けます。
A14: 品 名 （規格も記載してください） | B14: 単位 | C14: 前年の10月1日現在所有高数量 | D14: 譲受数量 | H14: 譲渡・施用・使用数量 | M14: 秤量誤差＊2 | N14: その年の9月30日 現在所有高数量＊3 ※自動計算:入力不可 | O14: 備 考
D15: （ ）内は内数＊1 | H15: （ ）内は内数＊1
E16: ( | G16: ) | I16: ( | L16: ) | N16: =C16+D16-H16+M16 -> 0
E17: ( | G17: ) | I17: ( | L17: ) | N17: =C17+D17-H17+M17 -> 0
E18: ( | G18: ) | I18: ( | L18: ) | N18: =C18+D18-H18+M18 -> 0
E19: ( | G19: ) | I19: ( | L19: ) | N19: =C19+D19-H19+M19 -> 0
E20: ( | G20: ) | I20: ( | L20: ) | N20: =C20+D20-H20+M20 -> 0
E21: ( | G21: ) | I21: ( | L21: ) | N21: =C21+D21-H21+M21 -> 0
E22: ( | G22: ) | I22: ( | L22: ) | N22: =C22+D22-H22+M22 -> 0
E23: ( | G23: ) | I23: ( | L23: ) | N23: =C23+D23-H23+M23 -> 0
E24: ( | G24: ) | I24: ( | L24: ) | N24: =C24+D24-H24+M24 -> 0
E25: ( | G25: ) | I25: ( | L25: ) | N25: =C25+D25-H25+M25 -> 0
E26: ( | G26: ) | I26: ( | L26: ) | N26: =C26+D26-H26+M26 -> 0
E27: ( | G27: ) | I27: ( | L27: ) | N27: =C27+D27-H27+M27 -> 0
... E31: ( | G31: ) | I31: ( | L31: ) | N31: =C31+D31-H31+M31 -> 0
A32: ※軽微な誤記、明らかな誤字脱字、記載漏れ等は市が訂正・追記します（承諾されない方はお申し出ください。）。
A33: ＊1：麻薬小売業者間譲渡許可を受けて他の許可業者との間で譲受・譲渡を行った場合、薬局廃止等に伴って他の許可業者から麻薬を譲り受けた場合は、内数として（ ）書きで併記してください。
A34: ＊2：秤量誤差で「マイナス」がある場合は、「－(マイナス)１」等と記載してください。
A35: ＊3：「その年の9月30日現在所有高数量の計算数値」が9月30日現在の実在庫及び麻薬帳簿の数と一致していることを確認してください。
A36: ＊4：行が不足する場合は、2枚目以降をご利用ください。

Sheet 麻薬小売業者届出書(2枚目)
A1: ※入力について 黄色のセルには、データ（文字、数字）を入力してください。 水色のセルは、入力は不要です。行が不足する場合は、2枚目以降をご利用ください。
A2: 麻薬小売業者年間届（２枚目）
E4: 麻薬業務所 名 称 | J4: =麻薬小売業者届出書!J6 -> 0
E5: 免許証の番号 麻令和 | J5: =麻薬小売業者届出書!J11 -> 0 | K5: 年第 | L5: =麻薬小売業者届出書!M11 -> 0 | N5: 号
A7: 品 名 （規格も記載してください） | B7: 単位 | C7: 前年の10月1日現在所有高数量 | D7: 譲受数量 | H7: 譲渡・施用・使用数量 | M7: 秤量誤差＊2 | N7: その年の9月30日 現在所有高数量＊3 ※自動計算:入力不可 | O7: 備 考
D8: （ ）内は内数＊1 | H8: （ ）内は内数＊1
E9: ( | G9: ) | I9: ( | L9: ) | N9: =C9+D9-H9+M9 -> 0
E10: ( | G10: ) | I10: ( | L10: ) | N10: =C10+D10-H10+M10 -> 0
E11: ( | G11: ) | I11: ( | L11: ) | N11: =C11+D11-H11+M11 -> 0
E12: ( | G12: ) | I12: ( | L12: ) | N12: =C12+D12-H12+M12 -> 0
E13: ( | G13: ) | I13: ( | L13: ) | N13: =C13+D13-H13+M13 -> 0
E14: ( | G14: ) | I14: ( | L14: ) | N14: =C14+D14-H14+M14 -> 0
E15: ( | G15: ) | I15: ( | L15: ) | N15: =C15+D15-H15+M15 -> 0
E16: ( | G16: ) | I16: ( | L16: ) | N16: =C16+D16-H16+M16 -> 0
E17: ( | G17: ) | I17: ( | L17: ) | N17: =C17+D17-H17+M17 -> 0
E18: ( | G18: ) | I18: ( | L18: ) | N18: =C18+D18-H18+M18 -> 0
E19: ( | G19: ) | I19: ( | L19: ) | N19: =C19+D19-H19+M19 -> 0
E20: ( | G20: ) | I20: ( | L20: ) | N20: =C20+D20-H20+M20 -> 0
... E33: ( | G33: ) | I33: ( | L33: ) | N33: =C33+D33-H33+M33 -> 0
A34: ※軽微な誤記、明らかな誤字脱字、記載漏れ等は市が訂正・追記します（承諾されない方はお申し出ください。）。
A35: ＊1：麻薬小売業者間譲渡許可を受けて他の許可業者との間で譲受・譲渡を行った場合、薬局廃止等に伴って他の許可業者から麻薬を譲り受けた場合は、内数として（ ）書きで併記してください。
A36: ＊2：秤量誤差で「マイナス」がある場合は、「－(マイナス)１」等と記載してください。
A37: ＊3：「その年の9月30日現在所有高数量の計算数値」が9月30日現在の実在庫及び麻薬帳簿の数と一致していることを確認してください。
A38: ＊4：行が不足する場合は、3枚目以降をご利用ください。

Sheet 麻薬小売業者届出書(3枚目以降）
A1: ※入力について 黄色のセルには、データ（文字、数字）を入力してください。 水色のセルは、入力は不要です。行が不足する場合は、2枚目以降をご利用ください。
A2: 麻薬小売業者年間届（３枚目以降）
E4: 麻薬業務所 名 称 | J4: =麻薬小売業者届出書!J6 -> 0
E5: 免許証の番号 麻令和 | J5: =麻薬小売業者届出書!J11 -> 0 | K5: 年第 | L5: =麻薬小売業者届出書!M11 -> 0 | N5: 号
A7: 品 名 （規格も記載してください） | B7: 単位 | C7: 前年の10月1日現在所有高数量 | D7: 譲受数量 | H7: 譲渡・施用・使用数量 | M7: 秤量誤差＊2 | N7: その年の9月30日 現在所有高数量＊3 ※自動計算:入力不可 | O7: 備 考
D8: （ ）内は内数＊1 | H8: （ ）内は内数＊1
E9: ( | G9: ) | I9: ( | L9: ) | N9: =C9+D9-H9+M9 -> 0
E10: ( | G10: ) | I10: ( | L10: ) | N10: =C10+D10-H10+M10 -> 0
E11: ( | G11: ) | I11: ( | L11: ) | N11: =C11+D11-H11+M11 -> 0
E12: ( | G12: ) | I12: ( | L12: ) | N12: =C12+D12-H12+M12 -> 0
E13: ( | G13: ) | I13: ( | L13: ) | N13: =C13+D13-H13+M13 -> 0
E14: ( | G14: ) | I14: ( | L14: ) | N14: =C14+D14-H14+M14 -> 0
E15: ( | G15: ) | I15: ( | L15: ) | N15: =C15+D15-H15+M15 -> 0
E16: ( | G16: ) | I16: ( | L16: ) | N16: =C16+D16-H16+M16 -> 0
E17: ( | G17: ) | I17: ( | L17: ) | N17: =C17+D17-H17+M17 -> 0
E18: ( | G18: ) | I18: ( | L18: ) | N18: =C18+D18-H18+M18 -> 0
E19: ( | G19: ) | I19: ( | L19: ) | N19: =C19+D19-H19+M19 -> 0
E20: ( | G20: ) | I20: ( | L20: ) | N20: =C20+D20-H20+M20 -> 0
... E33: ( | G33: ) | I33: ( | L33: ) | N33: =C33+D33-H33+M33 -> 0
A34: ※軽微な誤記、明らかな誤字脱字、記載漏れ等は市が訂正・追記します（承諾されない方はお申し出ください。）。
A35: ＊1：麻薬小売業者間譲渡許可を受けて他の許可業者との間で譲受・譲渡を行った場合、薬局廃止等に伴って他の許可業者から麻薬を譲り受けた場合は、内数として（ ）書きで併記してください。
A36: ＊2：秤量誤差で「マイナス」がある場合は、「－(マイナス)１」等と記載してください。
A37: ＊3：「その年の9月30日現在所有高数量の計算数値」が9月30日現在の実在庫及び麻薬帳簿の数と一致していることを確認してください。
A38: ＊4：行が不足する場合は、3枚目以降をご利用ください。

Sheet 記載例
A1: ※入力について | B1: 黄色のセルには、データ（文字、数字）を入力してください。
B2: 水色のセルは、入力は不要です。
B3: 行が不足する場合は、挿入して使用してください。
A4: 様式１３ | O4: 届出の日を記入→ | P4: 令和 | Q4: 年 月 日
E5: 令和 | I5: 年度 麻薬小売業者年間届
A7: （宛先）広島市保健所長
F8: 麻薬業務所 所在地 | K8: 広島市中区富士見町１１番２７号 １階 ←免許証のとおり記載
F9: 麻薬業務所 名 称 | K9: ○○薬局
I10: 連絡先 | J10: ：担当 | M10: 環境 衛 | P10: TEL | Q10: □□□□
F11: 届 出 者 住 所 | K11: 広島市中区国泰寺町一丁目６番３４号 ←免許証のとおり記載
F12: 届 出 者 氏 名 | K12: 株式会社○○○
K13: （法人にあっては、主たる事務所の所在地及び名称）←主たる事務所とは、登記事項証明書に記載された本店
F14: 免許証の番号 麻令和 | K14: 6 | L14: 年第 | N14: 9999 | O14: 号
K15: ↑許可証のとおり記載↑
A16: 麻薬及び向精神薬取締法（昭和28年法律第14号）第47条の規定により、次のとおり届けます。
A17: 品 名 （規格も記載してください） | C17: 単位 | D17: 前年の10月1日現在所有高数量 | E17: 譲受数量 | I17: 譲渡・施用・使用数量 | N17: 秤量誤差＊2 | O17: その年の9月30日 現在所有高数量＊3 ※自動計算:入力不可 | P17: 備 考
E18: （ ）内は内数＊1 | I18: （ ）内は内数＊1
A19: オキノーム散５ｍｇ | C19: 包 | D19: 20 | E19: 0 | F19: ( | H19: ) | I19: 0 | J19: ( | M19: ) | O19: =D19+E19-I19+N19 -> 20
A20: フェントステープ１ｍｇ | C20: 枚 | D20: 3 | E20: 21 | F20: ( | G20: 7 | H20: ) | I20: 24 | J20: ( | M20: ) | O20: =D20+E20-I20+N20 -> 0 | P20: ○○年○○月○○日 麻薬廃棄届提出済 ３枚
A21: オキシコンチン錠１０ｍｇ | C21: 錠 | D21: 20 | E21: 100 | F21: ( | H21: ) | I21: 43 | J21: ( | M21: ) | O21: =D21+E21-I21+N21 -> 77 | P21: ○○年○○月○○日 麻薬事故届提出済 １錠
A22: アヘンチンキ | C22: mL | D22: 40 | E22: 0 | F22: ( | H22: ) | I22: 16 | J22: ( | M22: ) | N22: 1 | O22: =D22+E22-I22+N22 -> 25
A23: 以下余白
F24: ( | H24: ) | J24: ( | M24: )
F25: ( | H25: ) | J25: ( | M25: )
F26: ( | H26: ) | J26: ( | M26: )
F27: ( | H27: ) | J27: ( | M27: )
F28: ( | H28: ) | J28: ( | M28: )
F29: ( | H29: ) | J29: ( | M29: )
F30: ( | H30: ) | J30: ( | M30: )
F31: ( | H31: ) | J31: ( | M31: )
F32: ( | H32: ) | J32: ( | M32: )
F33: ( | H33: ) | J33: ( | M33: )
F34: ( | H34: ) | J34: ( | M34: )
A35: ※軽微な誤記、明らかな誤字脱字、記載漏れ等は市が訂正・追記します（承諾されない方はお申し出ください。）。
A36: ＊1：麻薬小売業者間譲渡許可を受けて他の許可業者との間で譲受・譲渡を行った場合、薬局廃止等に伴って他の許可業者から麻薬を譲り受けた場合は、内数として（ ）書きで併記してください。
A37: ＊2：秤量誤差で「マイナス」がある場合は、「－(マイナス)１」等と記載してください。
A38: ＊3：「その年の9月30日現在所有高数量の計算数値」が9月30日現在の実在庫及び麻薬帳簿の数と一致していることを確認してください。
A39: ＊4：行が不足する場合は、2枚目以降をご利用ください。
